Shooting information for this photo
Camera: | NIKON CORPORATION NIKON D600 |
Exposure: | 25 sec. |
Aperture: | f/2.8 |
Focal Length: | 14.0 mm (35 mm equivalent: 14.0 mm) |
Flash: | Off, Did not fire |
Exposure mode: | Manual |
Max Aperture: | 2.8 |
Resolution: | 72 x 72 dpi |
Dimension: | 6699 x 5551 pixels |
Original Date: | 2018:05:15 21:20:15 |
Created on: | 2018:05:15 21:20:15 |
Modified on: | 2018:05:17 13:35:27 |
Software: | Capture NX 2.4.7 W |
Already Applied | True |
Auto Lateral CA | 0 |
Blacks 2012 | 0 |
Blue Hue | 0 |
Blue Saturation | 0 |
Camera Profile | Embedded |
Circle Of Confusion | 0.030 mm |
Clarity 2012 | 0 |
Color Noise Reduction | 11 |
Color Noise Reduction Detail | 50 |
Color Noise Reduction Smoothness | 50 |
Color Space | Uncalibrated |
Contrast | Normal |
Contrast 2012 | +15 |
Convert To Grayscale | False |
Cropped Area Image Height Pixels | 6683 |
Cropped Area Image Width Pixels | 11948 |
Cropped Area Left Pixels | 3166 |
Cropped Area Top Pixels | 407 |
Custom Rendered | Custom |
Defringe Green Amount | 0 |
Defringe Green Hue Hi | 60 |
Defringe Green Hue Lo | 40 |
Defringe Purple Amount | 0 |
Defringe Purple Hue Hi | 70 |
Defringe Purple Hue Lo | 30 |
Dehaze | 0 |
Digital Zoom Ratio | 1 |
Exposure 2012 | 0.00 |
Exposure Compensation | 0 |
Exposure Mode | Manual |
Field Of View | 104.3 deg |
Focal Length In 35mm Format | 14 mm |
Format | image/jpeg |
Full Pano Height Pixels | 9140 |
Full Pano Width Pixels | 18281 |
Gain Control | High gain up |
Grain Amount | 0 |
Green Hue | 0 |
Green Saturation | 0 |
Has Crop | False |
Has Settings | True |
Highlights 2012 | 0 |
Hue Adjustment Aqua | 0 |
Hue Adjustment Blue | 0 |
Hue Adjustment Green | 0 |
Hue Adjustment Magenta | 0 |
Hue Adjustment Orange | 0 |
Hue Adjustment Purple | 0 |
Hue Adjustment Red | 0 |
Hue Adjustment Yellow | 0 |
Hyperfocal Distance | 2.33 m |
IFD0 Offset | 1252 |
ISO | 3200 |
Image Data Size | 22550990 |
Image Size | 6699x5551 |
Incremental Temperature | -5 |
Incremental Tint | +7 |
Lens Manual Distortion Amount | 0 |
Lens Profile Enable | 0 |
Lens Profile Setup | LensDefaults |
Light Source | Unknown |
Light Value | -6.7 |
Luminance Adjustment Aqua | 0 |
Luminance Adjustment Blue | 0 |
Luminance Adjustment Green | 0 |
Luminance Adjustment Magenta | 0 |
Luminance Adjustment Orange | 0 |
Luminance Adjustment Purple | 0 |
Luminance Adjustment Red | 0 |
Luminance Adjustment Yellow | 0 |
Luminance Noise Reduction Contrast | 0 |
Luminance Noise Reduction Detail | 100 |
Luminance Smoothing | 6 |
Maker Note Version | 2.11 |
Metering Mode | Multi-segment |
NEF Bit Depth | n/a (JPEG) |
Nikon Capture Version | Capture NX 2.4.7 W |
Override Look Vignette | False |
Parametric Darks | 0 |
Parametric Highlight Split | 75 |
Parametric Highlights | 0 |
Parametric Lights | 0 |
Parametric Midtone Split | 50 |
Parametric Shadow Split | 25 |
Parametric Shadows | 0 |
Perspective Aspect | 0 |
Perspective Horizontal | 0 |
Perspective Rotate | 0.0 |
Perspective Scale | 100 |
Perspective Upright | 0 |
Perspective Vertical | 0 |
Perspective X | 0.00 |
Perspective Y | 0.00 |
Post Crop Vignette Amount | 0 |
Preview IFD Offset | 1152 |
Process Version | 10.0 |
Projection Type | equirectangular |
Red Hue | 0 |
Red Saturation | 0 |
Saturation | Normal |
Saturation Adjustment Aqua | 0 |
Saturation Adjustment Blue | 0 |
Saturation Adjustment Green | 0 |
Saturation Adjustment Magenta | 0 |
Saturation Adjustment Orange | 0 |
Saturation Adjustment Purple | 0 |
Saturation Adjustment Red | 0 |
Saturation Adjustment Yellow | 0 |
Scale Factor To 35 mm Equivalent | 1.0 |
Scene Capture Type | Standard |
Scene Type | Unknown (0) |
Sensing Method | One-chip color area |
Sensitivity Type | Recommended Exposure Index |
Shadow Tint | 0 |
Shadows 2012 | 0 |
Sharpen Detail | 25 |
Sharpen Edge Masking | 0 |
Sharpen Radius | +1.0 |
Sharpness | Hard |
Source Photos Count | 8 |
Split Toning Balance | 0 |
Split Toning Highlight Hue | 0 |
Split Toning Highlight Saturation | 0 |
Split Toning Shadow Hue | 0 |
Split Toning Shadow Saturation | 0 |
Stitching Software | Autopano Giga 4.4.1 |
Subject Distance Range | Unknown |
Tone Curve | 0, 0, 255, 255 |
Tone Curve Blue | 0, 0, 255, 255 |
Tone Curve Green | 0, 0, 255, 255 |
Tone Curve Name | Linear |
Tone Curve Name 2012 | Linear |
Tone Curve PV2012 | 0, 0, 255, 255 |
Tone Curve PV2012 Blue | 0, 0, 255, 255 |
Tone Curve PV2012 Green | 0, 0, 255, 255 |
Tone Curve PV2012 Red | 0, 0, 255, 255 |
Tone Curve Red | 0, 0, 255, 255 |
Tone Map Strength | 0 |
Use Panorama Viewer | True |
User Comment | Kolor stitching | 8 pictures | Size: 11948 x 6683 | Lens: Standard | RMS: 3.55 | FOV: 235.28 x 131.60 ~ 16.17 | Projection: Spherical | Color: LDR | |
Version | 10.3 |
Vibrance | 0 |
Vignette Amount | +65 |
Vignette Correction Already Applied | True |
Vignette Midpoint | 50 |
White Balance | Manual |
Whites 2012 | +31 |