Shooting information for this photo
Resolution: | 72 x 72 dpi |
Dimension: | 6000 x 2227 pixels |
Created on: | 2018:03:19 06:41:24 |
Modified on: | 2018:03:19 11:53:35 |
Software: | Capture NX 2.4.7 W |
Already Applied | True |
Auto Lateral CA | 1 |
Blacks 2012 | -5 |
Blue Hue | +20 |
Blue Saturation | 0 |
Camera Profile | Embedded |
Clarity 2012 | 0 |
Color Mode | RGB |
Color Noise Reduction | 5 |
Color Noise Reduction Detail | 92 |
Color Noise Reduction Smoothness | 50 |
Color Space | Uncalibrated |
Contrast 2012 | +36 |
Convert To Grayscale | False |
Defringe Green Amount | 0 |
Defringe Green Hue Hi | 60 |
Defringe Green Hue Lo | 40 |
Defringe Purple Amount | 0 |
Defringe Purple Hue Hi | 70 |
Defringe Purple Hue Lo | 30 |
Dehaze | +20 |
Exposure 2012 | 0.00 |
Format | image/jpeg |
Grain Amount | 0 |
Green Hue | -84 |
Green Saturation | -100 |
Has Crop | False |
Has Settings | True |
Highlights 2012 | +11 |
Hue Adjustment Aqua | 0 |
Hue Adjustment Blue | 0 |
Hue Adjustment Green | 0 |
Hue Adjustment Magenta | -9 |
Hue Adjustment Orange | -38 |
Hue Adjustment Purple | -13 |
Hue Adjustment Red | -43 |
Hue Adjustment Yellow | +100 |
ICC Profile Name | sRGB IEC61966-2.1 |
IFD0 Offset | 578 |
Image Data Size | 11355786 |
Image Size | 6000x2227 |
Incremental Temperature | 0 |
Incremental Tint | +36 |
Lateral Chromatic Aberration Correction Already Applied | True |
Lens Manual Distortion Amount | 0 |
Lens Profile Enable | 0 |
Lens Profile Setup | LensDefaults |
Luminance Adjustment Aqua | 0 |
Luminance Adjustment Blue | +100 |
Luminance Adjustment Green | -32 |
Luminance Adjustment Magenta | 0 |
Luminance Adjustment Orange | +100 |
Luminance Adjustment Purple | 0 |
Luminance Adjustment Red | +88 |
Luminance Adjustment Yellow | -23 |
Luminance Noise Reduction Contrast | 0 |
Luminance Noise Reduction Detail | 84 |
Luminance Smoothing | 3 |
Maker Note Version | 2.11 |
NEF Bit Depth | n/a (JPEG) |
Nikon Capture Version | Capture NX 2.4.7 W |
Parametric Darks | 0 |
Parametric Highlight Split | 75 |
Parametric Highlights | 0 |
Parametric Lights | 0 |
Parametric Midtone Split | 50 |
Parametric Shadow Split | 25 |
Parametric Shadows | 0 |
Perspective Aspect | 0 |
Perspective Horizontal | 0 |
Perspective Rotate | 0.0 |
Perspective Scale | 100 |
Perspective Upright | 0 |
Perspective Vertical | 0 |
Perspective X | 0.00 |
Perspective Y | 0.00 |
Post Crop Vignette Amount | 0 |
Preview IFD Offset | 478 |
Process Version | 10.0 |
Red Hue | -62 |
Red Saturation | +74 |
Saturation | +16 |
Saturation Adjustment Aqua | -100 |
Saturation Adjustment Blue | +25 |
Saturation Adjustment Green | -100 |
Saturation Adjustment Magenta | 0 |
Saturation Adjustment Orange | 0 |
Saturation Adjustment Purple | -90 |
Saturation Adjustment Red | +100 |
Saturation Adjustment Yellow | 0 |
Shadow Tint | +42 |
Shadows 2012 | +19 |
Sharpen Detail | 25 |
Sharpen Edge Masking | 0 |
Sharpen Radius | +1.0 |
Sharpness | 75 |
Split Toning Balance | 0 |
Split Toning Highlight Hue | 297 |
Split Toning Highlight Saturation | 11 |
Split Toning Shadow Hue | 12 |
Split Toning Shadow Saturation | 6 |
Tone Curve | 0, 0, 255, 255 |
Tone Curve Blue | 0, 0, 255, 255 |
Tone Curve Green | 0, 0, 255, 255 |
Tone Curve Name | Linear |
Tone Curve Name 2012 | Linear |
Tone Curve PV2012 | 0, 0, 255, 255 |
Tone Curve PV2012 Blue | 0, 0, 255, 255 |
Tone Curve PV2012 Green | 0, 0, 255, 255 |
Tone Curve PV2012 Red | 0, 0, 255, 255 |
Tone Curve Red | 0, 0, 255, 255 |
Version | 10.2 |
Vibrance | -7 |
Vignette Amount | 0 |
White Balance | Custom |
Whites 2012 | +45 |